BEGIN:VCALENDAR
VERSION:2.0
PRODID:-//Goebel Goods - ECPv6.15.20//NONSGML v1.0//EN
CALSCALE:GREGORIAN
METHOD:PUBLISH
X-WR-CALNAME:Goebel Goods
X-ORIGINAL-URL:https://goebelgoods.com
X-WR-CALDESC:Events for Goebel Goods
REFRESH-INTERVAL;VALUE=DURATION:PT1H
X-Robots-Tag:noindex
X-PUBLISHED-TTL:PT1H
BEGIN:VTIMEZONE
TZID:America/Los_Angeles
BEGIN:DAYLIGHT
TZOFFSETFROM:-0800
TZOFFSETTO:-0700
TZNAME:PDT
DTSTART:20230312T100000
END:DAYLIGHT
BEGIN:STANDARD
TZOFFSETFROM:-0700
TZOFFSETTO:-0800
TZNAME:PST
DTSTART:20231105T090000
END:STANDARD
BEGIN:DAYLIGHT
TZOFFSETFROM:-0800
TZOFFSETTO:-0700
TZNAME:PDT
DTSTART:20240310T100000
END:DAYLIGHT
BEGIN:STANDARD
TZOFFSETFROM:-0700
TZOFFSETTO:-0800
TZNAME:PST
DTSTART:20241103T090000
END:STANDARD
BEGIN:DAYLIGHT
TZOFFSETFROM:-0800
TZOFFSETTO:-0700
TZNAME:PDT
DTSTART:20250309T100000
END:DAYLIGHT
BEGIN:STANDARD
TZOFFSETFROM:-0700
TZOFFSETTO:-0800
TZNAME:PST
DTSTART:20251102T090000
END:STANDARD
END:VTIMEZONE
BEGIN:VEVENT
DTSTART;TZID=America/Los_Angeles:20241027T110000
DTEND;TZID=America/Los_Angeles:20241027T140000
DTSTAMP:20260424T054433
CREATED:20240825T234904Z
LAST-MODIFIED:20240901T070554Z
UID:166-1730026800-1730037600@goebelgoods.com
SUMMARY:Skyway Farmers Market
DESCRIPTION:Come see Goebel Goods at the Skyway Farmers Market and load up on our 100% pure and raw Skyway Honey\, sustainably harvested just a few blocks away at our humble urban apiary. \n\n\n\nThis month’s specials include: \n\n\n\n\nFREE honey dipper with purchase of 12 oz. honey in a glass hive jar. SUPER gift-able\, so stock up and impress your friends and family. \n\n\n\n\nCome take a factory tour and witness our workers in action! We’ll have an actual observation hive on site\, and those that can spot the queen will earn a special limited edition sticker. Learn some new bee facts to impress your friends or destroy your enemies at trivia night. We got you.
URL:https://goebelgoods.com/event/skyway-farmers-market-october-27-2024/
LOCATION:King County Fire District #20\, 12424 76th Ave S\, Seattle\, Washington\, 98178\, United States
ATTACH;FMTTYPE=image/jpeg:https://goebelgoods.com/wp-content/uploads/2024/08/Skyway-Farmers-Market-logo.jpeg
END:VEVENT
BEGIN:VEVENT
DTSTART;TZID=America/Los_Angeles:20240929T110000
DTEND;TZID=America/Los_Angeles:20240929T140000
DTSTAMP:20260424T054433
CREATED:20240825T084009Z
LAST-MODIFIED:20240826T031533Z
UID:141-1727607600-1727618400@goebelgoods.com
SUMMARY:Skyway Farmers Market
DESCRIPTION:Come see Goebel Goods at the Skyway Farmers Market and load up on our 100% pure and raw Skyway Honey\, sustainably harvested just a few blocks away at our humble urban apiary. \n\n\n\nThis month’s specials include: \n\n\n\n\nFREE honey dipper with purchase of 12 oz. honey in a glass hive jar. SUPER gift-able\, so stock up and impress your friends and family. \n\n\n\n\nCome take a factory tour and witness our workers in action! We’ll have an actual observation hive on site\, and those that can spot the queen will earn a special limited edition sticker. Learn some new bee facts to impress your friends or destroy your enemies at trivia night. We got you.
URL:https://goebelgoods.com/event/skyway-farmers-market-september-2024/
LOCATION:King County Fire District #20\, 12424 76th Ave S\, Seattle\, Washington\, 98178\, United States
ATTACH;FMTTYPE=image/jpeg:https://goebelgoods.com/wp-content/uploads/2024/08/Skyway-Farmers-Market-logo.jpeg
END:VEVENT
BEGIN:VEVENT
DTSTART;TZID=America/Los_Angeles:20240825T110000
DTEND;TZID=America/Los_Angeles:20240825T140000
DTSTAMP:20260424T054433
CREATED:20240825T004653Z
LAST-MODIFIED:20240825T084258Z
UID:47-1724583600-1724594400@goebelgoods.com
SUMMARY:Skyway Farmers Market
DESCRIPTION:Come see Goebel Goods at the Skyway Farmers Market and load up on our 100% pure and raw Skyway Honey\, sustainably harvested just a few blocks away at our humble urban apiary. \n\n\n\nThis month’s specials include: \n\n\n\n\n$2 off 12 oz. spring honey! It’s bright and floral\, perfect for your tea.\n\n\n\nFREE honey dipper with purchase of 12 oz. honey in a glass hive jar. SUPER gift-able\, so stock up and impress your friends and family. \n\n\n\n\nCome take a factory tour and witness our workers in action! We’ll have an actual observation hive on site\, and those that can spot the queen will earn a special limited edition sticker. Learn some new bee facts to impress your friends or destroy your enemies at trivia night. We got you.
URL:https://goebelgoods.com/event/skyway-farmers-market-august-2024/
LOCATION:King County Fire District #20\, 12424 76th Ave S\, Seattle\, Washington\, 98178\, United States
ATTACH;FMTTYPE=image/jpeg:https://goebelgoods.com/wp-content/uploads/2024/08/Skyway-Farmers-Market-logo.jpeg
END:VEVENT
END:VCALENDAR