BEGIN:VCALENDAR
VERSION:2.0
PRODID:-//Goebel Goods - ECPv6.15.20//NONSGML v1.0//EN
CALSCALE:GREGORIAN
METHOD:PUBLISH
X-WR-CALNAME:Goebel Goods
X-ORIGINAL-URL:https://goebelgoods.com
X-WR-CALDESC:Events for Goebel Goods
REFRESH-INTERVAL;VALUE=DURATION:PT1H
X-Robots-Tag:noindex
X-PUBLISHED-TTL:PT1H
BEGIN:VTIMEZONE
TZID:America/Los_Angeles
BEGIN:DAYLIGHT
TZOFFSETFROM:-0800
TZOFFSETTO:-0700
TZNAME:PDT
DTSTART:20250309T100000
END:DAYLIGHT
BEGIN:STANDARD
TZOFFSETFROM:-0700
TZOFFSETTO:-0800
TZNAME:PST
DTSTART:20251102T090000
END:STANDARD
BEGIN:DAYLIGHT
TZOFFSETFROM:-0800
TZOFFSETTO:-0700
TZNAME:PDT
DTSTART:20260308T100000
END:DAYLIGHT
BEGIN:STANDARD
TZOFFSETFROM:-0700
TZOFFSETTO:-0800
TZNAME:PST
DTSTART:20261101T090000
END:STANDARD
BEGIN:DAYLIGHT
TZOFFSETFROM:-0800
TZOFFSETTO:-0700
TZNAME:PDT
DTSTART:20270314T100000
END:DAYLIGHT
BEGIN:STANDARD
TZOFFSETFROM:-0700
TZOFFSETTO:-0800
TZNAME:PST
DTSTART:20271107T090000
END:STANDARD
END:VTIMEZONE
BEGIN:VEVENT
DTSTART;TZID=America/Los_Angeles:20260611T150000
DTEND;TZID=America/Los_Angeles:20260611T190000
DTSTAMP:20260423T134341
CREATED:20260417T094543Z
LAST-MODIFIED:20260417T094545Z
UID:710-1781190000-1781204400@goebelgoods.com
SUMMARY:Georgetown Farmers Market
DESCRIPTION:We’re adding a whole new market to our calendar and would LOVE to see your faces there too! Come see us at the Georgetown Farmers Market near Bloom Bistro (6601 Carleton Ave S) from 3-7pm on second Thursdays\, May through September\, 2026.
URL:https://goebelgoods.com/event/georgetown-farmers-market/
LOCATION:Georgetown Farmers Market\, 6601 Carleton Ave S\, Seattle\, Washington\, 98108\, United States
ATTACH;FMTTYPE=image/jpeg:https://goebelgoods.com/wp-content/uploads/2026/04/Georgetown-Farmers-Market-2026-Poster.jpeg
END:VEVENT
END:VCALENDAR