BEGIN:VCALENDAR
VERSION:2.0
PRODID:-//Goebel Goods - ECPv6.15.20//NONSGML v1.0//EN
CALSCALE:GREGORIAN
METHOD:PUBLISH
X-ORIGINAL-URL:https://goebelgoods.com
X-WR-CALDESC:Events for Goebel Goods
REFRESH-INTERVAL;VALUE=DURATION:PT1H
X-Robots-Tag:noindex
X-PUBLISHED-TTL:PT1H
BEGIN:VTIMEZONE
TZID:America/Los_Angeles
BEGIN:DAYLIGHT
TZOFFSETFROM:-0800
TZOFFSETTO:-0700
TZNAME:PDT
DTSTART:20250309T100000
END:DAYLIGHT
BEGIN:STANDARD
TZOFFSETFROM:-0700
TZOFFSETTO:-0800
TZNAME:PST
DTSTART:20251102T090000
END:STANDARD
BEGIN:DAYLIGHT
TZOFFSETFROM:-0800
TZOFFSETTO:-0700
TZNAME:PDT
DTSTART:20260308T100000
END:DAYLIGHT
BEGIN:STANDARD
TZOFFSETFROM:-0700
TZOFFSETTO:-0800
TZNAME:PST
DTSTART:20261101T090000
END:STANDARD
BEGIN:DAYLIGHT
TZOFFSETFROM:-0800
TZOFFSETTO:-0700
TZNAME:PDT
DTSTART:20270314T100000
END:DAYLIGHT
BEGIN:STANDARD
TZOFFSETFROM:-0700
TZOFFSETTO:-0800
TZNAME:PST
DTSTART:20271107T090000
END:STANDARD
END:VTIMEZONE
BEGIN:VEVENT
DTSTART;TZID=America/Los_Angeles:20260419T110000
DTEND;TZID=America/Los_Angeles:20260419T150000
DTSTAMP:20260423T120525
CREATED:20260417T093643Z
LAST-MODIFIED:20260417T093645Z
UID:698-1776596400-1776610800@goebelgoods.com
SUMMARY:Black Panther Park Ribbon Cutting Celebration
DESCRIPTION:Join us for the official ribbon cutting at Black Panther Park in Skyway. Celebrate community\, local art\, and the people who helped build this beautiful space. Power to the people! \n\n\n\nWe’ll also be bringing out the Factory Tour so you can meet the Queen and her workers for the FIRST TIME this year!
URL:https://goebelgoods.com/event/black-panther-park-ribbon-cutting-celebration/
LOCATION:Black Panther Park\, Renton Ave S & 75th Ave S\, Seattle\, WA\, 98178\, United States
ATTACH;FMTTYPE=image/jpeg:https://goebelgoods.com/wp-content/uploads/2026/04/Black-Panther-Park-Ribbon-Cutting-2026-Poster.jpg
END:VEVENT
BEGIN:VEVENT
DTSTART;TZID=America/Los_Angeles:20260514T150000
DTEND;TZID=America/Los_Angeles:20260514T190000
DTSTAMP:20260423T120525
CREATED:20260417T094324Z
LAST-MODIFIED:20260417T094526Z
UID:705-1778770800-1778785200@goebelgoods.com
SUMMARY:Georgetown Farmers Market
DESCRIPTION:We’re adding a whole new market to our calendar and would LOVE to see your faces there too! Come see us at the Georgetown Farmers Market near Bloom Bistro (6601 Carleton Ave S) from 3-7pm on second Thursdays\, May through September\, 2026.
URL:https://goebelgoods.com/event/georgetown-farmers-market-2026-may/
LOCATION:Georgetown Farmers Market\, 6601 Carleton Ave S\, Seattle\, Washington\, 98108\, United States
ATTACH;FMTTYPE=image/jpeg:https://goebelgoods.com/wp-content/uploads/2026/04/Georgetown-Farmers-Market-2026-Poster.jpeg
END:VEVENT
BEGIN:VEVENT
DTSTART;TZID=America/Los_Angeles:20260530T110000
DTEND;TZID=America/Los_Angeles:20260530T170000
DTSTAMP:20260423T120525
CREATED:20260417T092747Z
LAST-MODIFIED:20260417T092749Z
UID:695-1780138800-1780160400@goebelgoods.com
SUMMARY:Rainier Beach Walk the Block Party
DESCRIPTION:We’re popping up at the Rainier Beach Walk the Block Party for the second year in a row! \n\n\n\n“Enjoy live entertainment\, discover local vendors\, and access community resources while celebrating the culture\, creativity\, and energy of Rainier Beach at the Rainier Beach Community Center Plaza!”
URL:https://goebelgoods.com/event/rainier-beach-walk-the-block-party-2/
LOCATION:Rainier Beach Community Center\, 8825 Rainier Ave S\, Seattle\, Washington\, 98118\, United States
ATTACH;FMTTYPE=image/jpeg:https://goebelgoods.com/wp-content/uploads/2026/04/Rainier-Beach-Walk-the-Block-2026-Poster.jpg
ORGANIZER;CN="Rainier Beach Action Coalition":MAILTO:info@rbactioncoalition.org
END:VEVENT
BEGIN:VEVENT
DTSTART;TZID=America/Los_Angeles:20260611T150000
DTEND;TZID=America/Los_Angeles:20260611T190000
DTSTAMP:20260423T120525
CREATED:20260417T094543Z
LAST-MODIFIED:20260417T094545Z
UID:710-1781190000-1781204400@goebelgoods.com
SUMMARY:Georgetown Farmers Market
DESCRIPTION:We’re adding a whole new market to our calendar and would LOVE to see your faces there too! Come see us at the Georgetown Farmers Market near Bloom Bistro (6601 Carleton Ave S) from 3-7pm on second Thursdays\, May through September\, 2026.
URL:https://goebelgoods.com/event/georgetown-farmers-market/
LOCATION:Georgetown Farmers Market\, 6601 Carleton Ave S\, Seattle\, Washington\, 98108\, United States
ATTACH;FMTTYPE=image/jpeg:https://goebelgoods.com/wp-content/uploads/2026/04/Georgetown-Farmers-Market-2026-Poster.jpeg
END:VEVENT
END:VCALENDAR