BEGIN:VCALENDAR
VERSION:2.0
PRODID:-//Goebel Goods - ECPv6.15.20//NONSGML v1.0//EN
CALSCALE:GREGORIAN
METHOD:PUBLISH
X-ORIGINAL-URL:https://goebelgoods.com
X-WR-CALDESC:Events for Goebel Goods
REFRESH-INTERVAL;VALUE=DURATION:PT1H
X-Robots-Tag:noindex
X-PUBLISHED-TTL:PT1H
BEGIN:VTIMEZONE
TZID:America/Los_Angeles
BEGIN:DAYLIGHT
TZOFFSETFROM:-0800
TZOFFSETTO:-0700
TZNAME:PDT
DTSTART:20240310T100000
END:DAYLIGHT
BEGIN:STANDARD
TZOFFSETFROM:-0700
TZOFFSETTO:-0800
TZNAME:PST
DTSTART:20241103T090000
END:STANDARD
BEGIN:DAYLIGHT
TZOFFSETFROM:-0800
TZOFFSETTO:-0700
TZNAME:PDT
DTSTART:20250309T100000
END:DAYLIGHT
BEGIN:STANDARD
TZOFFSETFROM:-0700
TZOFFSETTO:-0800
TZNAME:PST
DTSTART:20251102T090000
END:STANDARD
BEGIN:DAYLIGHT
TZOFFSETFROM:-0800
TZOFFSETTO:-0700
TZNAME:PDT
DTSTART:20260308T100000
END:DAYLIGHT
BEGIN:STANDARD
TZOFFSETFROM:-0700
TZOFFSETTO:-0800
TZNAME:PST
DTSTART:20261101T090000
END:STANDARD
END:VTIMEZONE
BEGIN:VEVENT
DTSTART;TZID=America/Los_Angeles:20250524T110000
DTEND;TZID=America/Los_Angeles:20250524T180000
DTSTAMP:20260424T014840
CREATED:20250501T075337Z
LAST-MODIFIED:20250501T075340Z
UID:556-1748084400-1748109600@goebelgoods.com
SUMMARY:Rainier Beach Walk the Block Party
DESCRIPTION:The Rainier Beach Action Coalition is hosting the second annual Rainier Beach Walk the Block Party. The party brings together Seattle residents\, businesses\, artists\, farmers\, and organizations for a day of family fun\, culture\, connection\, great resources\, and experiential learning opportunities. \n\n\n\nCome find our booth and say hi!
URL:https://goebelgoods.com/event/rainier-beach-walk-the-block-party/
LOCATION:Rainier Beach Community Center\, 8825 Rainier Ave S\, Seattle\, Washington\, 98118\, United States
ATTACH;FMTTYPE=image/jpeg:https://goebelgoods.com/wp-content/uploads/2025/05/Walk-the-Block-2025.jpg
ORGANIZER;CN="Rainier Beach Action Coalition":MAILTO:info@rbactioncoalition.org
END:VEVENT
BEGIN:VEVENT
DTSTART;TZID=America/Los_Angeles:20250525T110000
DTEND;TZID=America/Los_Angeles:20250525T140000
DTSTAMP:20260424T014840
CREATED:20250501T074154Z
LAST-MODIFIED:20250501T074157Z
UID:551-1748170800-1748181600@goebelgoods.com
SUMMARY:Skyway Farmers Market
DESCRIPTION:Come see Goebel Goods at the Skyway Farmers Market and load up on our 100% pure and raw Skyway Honey\, sustainably harvested just a few blocks away at our humble urban apiary.
URL:https://goebelgoods.com/event/skyway-farmers-market-2025-05-25/
LOCATION:Skyway Resource Center\, 12610 76th Ave S\, Seattle\, Washington\, 98178\, United States
ATTACH;FMTTYPE=image/jpeg:https://goebelgoods.com/wp-content/uploads/2024/08/Skyway-Farmers-Market-logo.jpeg
END:VEVENT
END:VCALENDAR