BEGIN:VCALENDAR
VERSION:2.0
PRODID:-//Goebel Goods - ECPv6.15.20//NONSGML v1.0//EN
CALSCALE:GREGORIAN
METHOD:PUBLISH
X-WR-CALNAME:Goebel Goods
X-ORIGINAL-URL:https://goebelgoods.com
X-WR-CALDESC:Events for Goebel Goods
REFRESH-INTERVAL;VALUE=DURATION:PT1H
X-Robots-Tag:noindex
X-PUBLISHED-TTL:PT1H
BEGIN:VTIMEZONE
TZID:America/Los_Angeles
BEGIN:DAYLIGHT
TZOFFSETFROM:-0800
TZOFFSETTO:-0700
TZNAME:PDT
DTSTART:20240310T100000
END:DAYLIGHT
BEGIN:STANDARD
TZOFFSETFROM:-0700
TZOFFSETTO:-0800
TZNAME:PST
DTSTART:20241103T090000
END:STANDARD
BEGIN:DAYLIGHT
TZOFFSETFROM:-0800
TZOFFSETTO:-0700
TZNAME:PDT
DTSTART:20250309T100000
END:DAYLIGHT
BEGIN:STANDARD
TZOFFSETFROM:-0700
TZOFFSETTO:-0800
TZNAME:PST
DTSTART:20251102T090000
END:STANDARD
BEGIN:DAYLIGHT
TZOFFSETFROM:-0800
TZOFFSETTO:-0700
TZNAME:PDT
DTSTART:20260308T100000
END:DAYLIGHT
BEGIN:STANDARD
TZOFFSETFROM:-0700
TZOFFSETTO:-0800
TZNAME:PST
DTSTART:20261101T090000
END:STANDARD
END:VTIMEZONE
BEGIN:VEVENT
DTSTART;TZID=America/Los_Angeles:20250914T110000
DTEND;TZID=America/Los_Angeles:20250914T140000
DTSTAMP:20260423T193426
CREATED:20250823T222525Z
LAST-MODIFIED:20250823T222528Z
UID:611-1757847600-1757858400@goebelgoods.com
SUMMARY:Skyway Farmers Market
DESCRIPTION:Come see Goebel Goods at the Skyway Farmers Market and load up on our 100% pure and raw Skyway Honey\, sustainably harvested just a few blocks away at our humble urban apiary.
URL:https://goebelgoods.com/event/skyway-farmers-market-2025-09-14/
LOCATION:Skyway Resource Center\, 12610 76th Ave S\, Seattle\, Washington\, 98178\, United States
ATTACH;FMTTYPE=image/jpeg:https://goebelgoods.com/wp-content/uploads/2024/08/Skyway-Farmers-Market-logo.jpeg
END:VEVENT
BEGIN:VEVENT
DTSTART;TZID=America/Los_Angeles:20250928T110000
DTEND;TZID=America/Los_Angeles:20250928T140000
DTSTAMP:20260423T193426
CREATED:20250823T223142Z
LAST-MODIFIED:20250823T223145Z
UID:613-1759057200-1759068000@goebelgoods.com
SUMMARY:Skyway Farmers Market
DESCRIPTION:Come see Goebel Goods at the Skyway Farmers Market and load up on our 100% pure and raw Skyway Honey\, sustainably harvested just a few blocks away at our humble urban apiary.
URL:https://goebelgoods.com/event/skyway-farmers-market-2025-09-28/
LOCATION:Skyway Resource Center\, 12610 76th Ave S\, Seattle\, Washington\, 98178\, United States
ATTACH;FMTTYPE=image/jpeg:https://goebelgoods.com/wp-content/uploads/2024/08/Skyway-Farmers-Market-logo.jpeg
END:VEVENT
END:VCALENDAR